BEGIN:VCALENDAR
VERSION:2.0
PRODID:-//hacksw/handcal//NONSGML v1.0//EN
BEGIN:VEVENT
SUMMARY:GUILERS 6 / PORTSALL 5
UID:85a24ce3-c2be-4a7c-b33b-c41e54cf28f6
DTSTART:20260414T120000Z
DTEND:20260414T160000Z
LOCATION:Localisation   
CATEGORIES:Sportif
STATUS:
DESCRIPTION:<h1>🔥 <strong>2eme Journee – Championnat CDCV3C ·
 2026</strong></h1>
 
 <h3>🗓️ <strong>Mardi 14 avril 2026 – 14 h
 00</strong></h3>
 
 <h1>💥 <strong>GUILERS
 6</strong></h1>
 
 <h2><strong>JOUE A
 LOCMARIA</strong></h2>
 
 <h1>💥<strong>PORTSALL
 5</strong></h1>
 
 <p> </p>
 
 <p> </p>
URL;VALUE=URI:https://www.integrale-guilerienne.com/evenements/2026/04/14/guilers-6-portsall-5-2440293
END:VEVENT
END:VCALENDAR
